BEGIN:VCALENDAR
VERSION:2.0
PRODID:icalendar-ruby
CALSCALE:GREGORIAN
METHOD:PUBLISH
BEGIN:VEVENT
DTSTAMP:20260419T122236Z
UID:6-264530@olivetreecommunitychurch.com
DTSTART:20260816T210000Z
DTEND:20260816T220000Z
CLASS:PUBLIC
CREATED:20260419T031739
DESCRIPTION:Worship
LAST-MODIFIED:20260419T031739
LOCATION:7000 Ocean Drive
SUMMARY:Worship
URL;VALUE=URI:https://www.olivetreecommunitychurch.com/events/worship/2026-
 08-16
END:VEVENT
END:VCALENDAR
