BEGIN:VCALENDAR
VERSION:2.0
PRODID:icalendar-ruby
CALSCALE:GREGORIAN
METHOD:PUBLISH
BEGIN:VEVENT
DTSTAMP:20260419T135515Z
UID:6-264574@olivetreecommunitychurch.com
DTSTART:20260823T210000Z
DTEND:20260823T220000Z
CLASS:PUBLIC
CREATED:20260419T084212
DESCRIPTION:Worship
LAST-MODIFIED:20260419T084212
LOCATION:7000 Ocean Drive
SUMMARY:Worship
URL;VALUE=URI:https://www.olivetreecommunitychurch.com/events/worship/2026-
 08-23
END:VEVENT
END:VCALENDAR
