BEGIN:VCALENDAR
VERSION:2.0
PRODID:icalendar-ruby
CALSCALE:GREGORIAN
METHOD:PUBLISH
BEGIN:VEVENT
DTSTAMP:20260419T155302Z
UID:6-264575@olivetreecommunitychurch.com
DTSTART:20260830T210000Z
DTEND:20260830T220000Z
CLASS:PUBLIC
CREATED:20260419T084212
DESCRIPTION:Worship
LAST-MODIFIED:20260419T084212
LOCATION:7000 Ocean Drive
SUMMARY:Worship
URL;VALUE=URI:https://www.olivetreecommunitychurch.com/events/worship/2026-
 08-30
END:VEVENT
END:VCALENDAR
