BEGIN:VCALENDAR
VERSION:2.0
PRODID:icalendar-ruby
CALSCALE:GREGORIAN
METHOD:PUBLISH
BEGIN:VEVENT
DTSTAMP:20260419T172815Z
UID:6-264619@olivetreecommunitychurch.com
DTSTART:20260906T210000Z
DTEND:20260906T220000Z
CLASS:PUBLIC
CREATED:20260419T122401
DESCRIPTION:Worship
LAST-MODIFIED:20260419T122401
LOCATION:7000 Ocean Drive
SUMMARY:Worship
URL;VALUE=URI:https://www.olivetreecommunitychurch.com/events/worship/2026-
 09-06
END:VEVENT
END:VCALENDAR
