BEGIN:VCALENDAR
VERSION:2.0
PRODID:icalendar-ruby
CALSCALE:GREGORIAN
METHOD:PUBLISH
BEGIN:VEVENT
DTSTAMP:20260419T205032Z
UID:6-264621@olivetreecommunitychurch.com
DTSTART:20260920T210000Z
DTEND:20260920T220000Z
CLASS:PUBLIC
CREATED:20260419T122401
DESCRIPTION:Worship
LAST-MODIFIED:20260419T122401
LOCATION:7000 Ocean Drive
SUMMARY:Worship
URL;VALUE=URI:https://www.olivetreecommunitychurch.com/events/worship/2026-
 09-20
END:VEVENT
END:VCALENDAR
