BEGIN:VCALENDAR
VERSION:2.0
PRODID:icalendar-ruby
CALSCALE:GREGORIAN
METHOD:PUBLISH
BEGIN:VEVENT
DTSTAMP:20260420T001437Z
UID:6-264666@olivetreecommunitychurch.com
DTSTART:20261004T210000Z
DTEND:20261004T220000Z
CLASS:PUBLIC
CREATED:20260419T160634
DESCRIPTION:Worship
LAST-MODIFIED:20260419T160634
LOCATION:7000 Ocean Drive
SUMMARY:Worship
URL;VALUE=URI:https://www.olivetreecommunitychurch.com/events/worship/2026-
 10-04
END:VEVENT
END:VCALENDAR
