BEGIN:VCALENDAR
VERSION:2.0
PRODID:icalendar-ruby
CALSCALE:GREGORIAN
METHOD:PUBLISH
BEGIN:VEVENT
DTSTAMP:20260420T020402Z
UID:6-264710@olivetreecommunitychurch.com
DTSTART:20261011T210000Z
DTEND:20261011T220000Z
CLASS:PUBLIC
CREATED:20260419T194816
DESCRIPTION:Worship
LAST-MODIFIED:20260419T194816
LOCATION:7000 Ocean Drive
SUMMARY:Worship
URL;VALUE=URI:https://www.olivetreecommunitychurch.com/events/worship/2026-
 10-11
END:VEVENT
END:VCALENDAR
