BEGIN:VCALENDAR
VERSION:2.0
PRODID:icalendar-ruby
CALSCALE:GREGORIAN
METHOD:PUBLISH
BEGIN:VEVENT
DTSTAMP:20260420T053310Z
UID:6-264756@olivetreecommunitychurch.com
DTSTART:20261025T210000Z
DTEND:20261025T220000Z
CLASS:PUBLIC
CREATED:20260419T232509
DESCRIPTION:Worship
LAST-MODIFIED:20260419T232509
LOCATION:7000 Ocean Drive
SUMMARY:Worship
URL;VALUE=URI:https://www.olivetreecommunitychurch.com/events/worship/2026-
 10-25
END:VEVENT
END:VCALENDAR
