BEGIN:VCALENDAR
VERSION:2.0
PRODID:icalendar-ruby
CALSCALE:GREGORIAN
METHOD:PUBLISH
BEGIN:VEVENT
DTSTAMP:20260420T071316Z
UID:6-264757@olivetreecommunitychurch.com
DTSTART:20261101T220000Z
DTEND:20261101T230000Z
CLASS:PUBLIC
CREATED:20260419T232509
DESCRIPTION:Worship
LAST-MODIFIED:20260419T232509
LOCATION:7000 Ocean Drive
SUMMARY:Worship
URL;VALUE=URI:https://www.olivetreecommunitychurch.com/events/worship/2026-
 11-01
END:VEVENT
END:VCALENDAR
